BEGIN:VCALENDAR
VERSION:2.0
PRODID:-//I14USA - ECPv6.15.13//NONSGML v1.0//EN
CALSCALE:GREGORIAN
METHOD:PUBLISH
X-WR-CALNAME:I14USA
X-ORIGINAL-URL:https://i14usa.com
X-WR-CALDESC:Events for I14USA
REFRESH-INTERVAL;VALUE=DURATION:PT1H
X-Robots-Tag:noindex
X-PUBLISHED-TTL:PT1H
BEGIN:VTIMEZONE
TZID:UTC
BEGIN:STANDARD
TZOFFSETFROM:+0000
TZOFFSETTO:+0000
TZNAME:UTC
DTSTART:20220101T000000
END:STANDARD
END:VTIMEZONE
BEGIN:VEVENT
DTSTART;VALUE=DATE:20240413
DTEND;VALUE=DATE:20240415
DTSTAMP:20260425T213731
CREATED:20240207T081938Z
LAST-MODIFIED:20240207T081938Z
UID:9767-1712966400-1713139199@i14usa.com
SUMMARY:RYC Big Dinghy
DESCRIPTION:
URL:https://i14usa.com/event/ryc-big-dinghy-2/
LOCATION:RYC
END:VEVENT
BEGIN:VEVENT
DTSTART;VALUE=DATE:20240302
DTEND;VALUE=DATE:20240303
DTSTAMP:20260425T213731
CREATED:20221207T051121Z
LAST-MODIFIED:20221207T051121Z
UID:8007-1709337600-1709423999@i14usa.com
SUMMARY:RYC Midwinters #4
DESCRIPTION:
URL:https://i14usa.com/event/ryc-midwinters-4-2/
LOCATION:RYC
END:VEVENT
BEGIN:VEVENT
DTSTART;VALUE=DATE:20240203
DTEND;VALUE=DATE:20240204
DTSTAMP:20260425T213731
CREATED:20221207T051051Z
LAST-MODIFIED:20221207T051051Z
UID:8005-1706918400-1707004799@i14usa.com
SUMMARY:RYC Midwinters #3
DESCRIPTION:
URL:https://i14usa.com/event/ryc-midwinters-3-2/
LOCATION:RYC
END:VEVENT
BEGIN:VEVENT
DTSTART;VALUE=DATE:20240106
DTEND;VALUE=DATE:20240107
DTSTAMP:20260425T213731
CREATED:20221207T051021Z
LAST-MODIFIED:20221207T051021Z
UID:8003-1704499200-1704585599@i14usa.com
SUMMARY:RYC Midwinters #2
DESCRIPTION:
URL:https://i14usa.com/event/ryc-midwinters-2-2/
LOCATION:RYC
END:VEVENT
BEGIN:VEVENT
DTSTART;VALUE=DATE:20230817
DTEND;VALUE=DATE:20230821
DTSTAMP:20260425T213731
CREATED:20221201T063829Z
LAST-MODIFIED:20230119T090946Z
UID:7788-1692230400-1692575999@i14usa.com
SUMMARY:2023 North American Championship
DESCRIPTION:
URL:https://i14usa.com/event/north-american-championship/
LOCATION:CORK\, 53 Yonge Street\, Kingston\, Ontario\, K7M 6G4\, Canada
END:VEVENT
END:VCALENDAR