BEGIN:VCALENDAR
VERSION:2.0
PRODID:-//I14USA - ECPv6.15.13//NONSGML v1.0//EN
CALSCALE:GREGORIAN
METHOD:PUBLISH
X-WR-CALNAME:I14USA
X-ORIGINAL-URL:https://i14usa.com
X-WR-CALDESC:Events for I14USA
REFRESH-INTERVAL;VALUE=DURATION:PT1H
X-Robots-Tag:noindex
X-PUBLISHED-TTL:PT1H
BEGIN:VTIMEZONE
TZID:UTC
BEGIN:STANDARD
TZOFFSETFROM:+0000
TZOFFSETTO:+0000
TZNAME:UTC
DTSTART:20220101T000000
END:STANDARD
END:VTIMEZONE
BEGIN:VEVENT
DTSTART;VALUE=DATE:20250510
DTEND;VALUE=DATE:20250511
DTSTAMP:20260425T201422
CREATED:20240207T082613Z
LAST-MODIFIED:20250509T173101Z
UID:9777-1746835200-1746921599@i14usa.com
SUMMARY:KYC Class Boat E
DESCRIPTION:
URL:https://i14usa.com/event/kyc-class-boat-e-3/
LOCATION:Kaneohe Yacht Club\, 44-503 Kaneohe Bay Dr\, Kaneohe\, 96744\, United States
END:VEVENT
BEGIN:VEVENT
DTSTART;VALUE=DATE:20250407
DTEND;VALUE=DATE:20250408
DTSTAMP:20260425T201422
CREATED:20240207T082017Z
LAST-MODIFIED:20250509T173509Z
UID:9769-1743984000-1744070399@i14usa.com
SUMMARY:KYC Class Boat D
DESCRIPTION:
URL:https://i14usa.com/event/kyc-class-boat-d-2/
LOCATION:Kaneohe Yacht Club\, 44-503 Kaneohe Bay Dr\, Kaneohe\, 96744\, United States
END:VEVENT
BEGIN:VEVENT
DTSTART;VALUE=DATE:20250330
DTEND;VALUE=DATE:20250331
DTSTAMP:20260425T201422
CREATED:20231229T062352Z
LAST-MODIFIED:20250509T173727Z
UID:9717-1743292800-1743379199@i14usa.com
SUMMARY:KYC Class Boat C
DESCRIPTION:
URL:https://i14usa.com/event/class-boat-c/
LOCATION:Kaneohe Yacht Club\, 44-503 Kaneohe Bay Dr\, Kaneohe\, 96744\, United States
END:VEVENT
BEGIN:VEVENT
DTSTART;VALUE=DATE:20250321
DTEND;VALUE=DATE:20250324
DTSTAMP:20260425T201422
CREATED:20231229T062055Z
LAST-MODIFIED:20250509T173830Z
UID:9711-1742515200-1742774399@i14usa.com
SUMMARY:CYC Spring Dinghy
DESCRIPTION:
URL:https://i14usa.com/event/sdyc-cyc-spring-dinghy/
LOCATION:CYC
END:VEVENT
BEGIN:VEVENT
DTSTART;VALUE=DATE:20250309
DTEND;VALUE=DATE:20250310
DTSTAMP:20260425T201422
CREATED:20231229T062318Z
LAST-MODIFIED:20250509T173709Z
UID:9715-1741478400-1741564799@i14usa.com
SUMMARY:KYC Class Boat B
DESCRIPTION:
URL:https://i14usa.com/event/class-boat-b/
LOCATION:Kaneohe Yacht Club\, 44-503 Kaneohe Bay Dr\, Kaneohe\, 96744\, United States
END:VEVENT
BEGIN:VEVENT
DTSTART;VALUE=DATE:20250215
DTEND;VALUE=DATE:20250217
DTSTAMP:20260425T201422
CREATED:20221207T043441Z
LAST-MODIFIED:20250509T174437Z
UID:7942-1739577600-1739750399@i14usa.com
SUMMARY:CBYC Midwinters
DESCRIPTION:
URL:https://i14usa.com/event/cbyc-midwinters/
LOCATION:Long Beach\, Long Beach\, CA
END:VEVENT
BEGIN:VEVENT
DTSTART;VALUE=DATE:20250208
DTEND;VALUE=DATE:20250209
DTSTAMP:20260425T201422
CREATED:20231229T062253Z
LAST-MODIFIED:20250509T173437Z
UID:9713-1738972800-1739059199@i14usa.com
SUMMARY:KYC Class Boat A
DESCRIPTION:
URL:https://i14usa.com/event/class-boat-a/
LOCATION:Kaneohe Yacht Club\, 44-503 Kaneohe Bay Dr\, Kaneohe\, 96744\, United States
END:VEVENT
BEGIN:VEVENT
DTSTART;VALUE=DATE:20250118
DTEND;VALUE=DATE:20250120
DTSTAMP:20260425T201422
CREATED:20231229T061503Z
LAST-MODIFIED:20250509T174007Z
UID:9699-1737158400-1737331199@i14usa.com
SUMMARY:SDYC Skiff Clinic
DESCRIPTION:
URL:https://i14usa.com/event/sdyc-skiff-clinic/
LOCATION:SDYC\, 1011 Anchorage Lane\, San Diego\, 92106\, United States
CATEGORIES:Training
END:VEVENT
BEGIN:VEVENT
DTSTART;VALUE=DATE:20250101
DTEND;VALUE=DATE:20250102
DTSTAMP:20260425T201422
CREATED:20221207T044329Z
LAST-MODIFIED:20250509T174643Z
UID:7947-1735689600-1735775999@i14usa.com
SUMMARY:SDYC New Yr. Day Race
DESCRIPTION:
URL:https://i14usa.com/event/sdyc-new-yr-day-race/
LOCATION:SDYC\, 1011 Anchorage Lane\, San Diego\, 92106\, United States
END:VEVENT
BEGIN:VEVENT
DTSTART;VALUE=DATE:20240725
DTEND;VALUE=DATE:20240805
DTSTAMP:20260425T201422
CREATED:20221201T065518Z
LAST-MODIFIED:20221201T065518Z
UID:7818-1721865600-1722815999@i14usa.com
SUMMARY:2024 World Championship - Garda
DESCRIPTION:
URL:https://i14usa.com/event/2024-world-championship-garda/
END:VEVENT
BEGIN:VEVENT
DTSTART;VALUE=DATE:20240413
DTEND;VALUE=DATE:20240415
DTSTAMP:20260425T201422
CREATED:20240207T081938Z
LAST-MODIFIED:20240207T081938Z
UID:9767-1712966400-1713139199@i14usa.com
SUMMARY:RYC Big Dinghy
DESCRIPTION:
URL:https://i14usa.com/event/ryc-big-dinghy-2/
LOCATION:RYC
END:VEVENT
BEGIN:VEVENT
DTSTART;VALUE=DATE:20240302
DTEND;VALUE=DATE:20240303
DTSTAMP:20260425T201422
CREATED:20221207T051121Z
LAST-MODIFIED:20221207T051121Z
UID:8007-1709337600-1709423999@i14usa.com
SUMMARY:RYC Midwinters #4
DESCRIPTION:
URL:https://i14usa.com/event/ryc-midwinters-4-2/
LOCATION:RYC
END:VEVENT
BEGIN:VEVENT
DTSTART;VALUE=DATE:20240203
DTEND;VALUE=DATE:20240204
DTSTAMP:20260425T201422
CREATED:20221207T051051Z
LAST-MODIFIED:20221207T051051Z
UID:8005-1706918400-1707004799@i14usa.com
SUMMARY:RYC Midwinters #3
DESCRIPTION:
URL:https://i14usa.com/event/ryc-midwinters-3-2/
LOCATION:RYC
END:VEVENT
BEGIN:VEVENT
DTSTART;VALUE=DATE:20240106
DTEND;VALUE=DATE:20240107
DTSTAMP:20260425T201422
CREATED:20221207T051021Z
LAST-MODIFIED:20221207T051021Z
UID:8003-1704499200-1704585599@i14usa.com
SUMMARY:RYC Midwinters #2
DESCRIPTION:
URL:https://i14usa.com/event/ryc-midwinters-2-2/
LOCATION:RYC
END:VEVENT
BEGIN:VEVENT
DTSTART;VALUE=DATE:20230817
DTEND;VALUE=DATE:20230821
DTSTAMP:20260425T201422
CREATED:20221201T063829Z
LAST-MODIFIED:20230119T090946Z
UID:7788-1692230400-1692575999@i14usa.com
SUMMARY:2023 North American Championship
DESCRIPTION:
URL:https://i14usa.com/event/north-american-championship/
LOCATION:CORK\, 53 Yonge Street\, Kingston\, Ontario\, K7M 6G4\, Canada
END:VEVENT
END:VCALENDAR